Workbook

Sheet 汇总表
A1: 盐都区新建公交站台项目报价汇总表
A2: 序号 | B2: 项目名称 | C2: 投标总价(元) | D2: 备注
A3: 1 | B3: 盐都区新建公交站台项目 | C3: =【标表1】投标报价汇总表!E16 -> 0
A4: 2 | B4: 安全生产费 | C4: 30459.62 | D4: 最高投标限价剔除不可竞争部分价格的1.5%
A5: 3 | B5: 工伤保险费 | C5: 6091.92 | D5: 最高投标限价剔除不可竞争部分价格的3‰
A6: 4 | B6: 建筑工程一切险和第三方责任险 | C6: 3045.96 | D6: 最高投标限价剔除不可竞争部分价格的0.9‰和0.6‰
A7: 5 | B7: 交通管制费 | C7: 25000 | D7: 该项为不可竞争费用，最终凭发票计取
A8: 6 | B8: 合计（1）+（2）...（4） | C8: =C3+C4+C5+C6+C7 -> 64597.5
A9: 说明：请各投标人按照汇总表顺序填写

Sheet 【标表1】投标报价汇总表
A2: 投标报价汇总表
A3: 合同段：盐都区新建公交站台项目 | E3: 标表1
A5: 序号 | B5: 章次 | C5: 科目名称 | E5: 金额（元）
A6: 1 | B6: 100 | C6: 总 则 | E6: =【标表2】工程量清单表!F14 -> 0
A7: 2 | B7: 200 | C7: 路 基 | E7: =【标表2】工程量清单表!F41 -> 0
A8: 3 | B8: 300 | C8: 路 面 | E8: =【标表2】工程量清单表!F72 -> 0
A9: 4 | B9: 600 | C9: 安全设施及预埋管线 | E9: =【标表2】工程量清单表!F96 -> 0
A10: 5 | B10: 700 | C10: 绿化及环境保护设施 | E10: =【标表2】工程量清单表!F110 -> 0
A11: 6 | B11: 第100章至第700章合计 | E11: =SUM(E6:E10) -> 0
A12: 7 | B12: 已包含在清单合计中的材料、工程设备、专业工程暂估价合计
A13: 8 | B13: 清单合计减去材料、工程设备、专业工程暂估价合计 | E13: =E11 -> 0
A14: 9 | B14: 计日工合计
A15: 10 | B15: 暂列金额（不含计日工总额）
A16: 11 | B16: 投标报价 | E16: =E13 -> 0
A19: 清单 第 1 页 | E19: 共 1 页

Sheet 【标表2】工程量清单表
A2: 工程量清单表
A3: 合同段：盐都区新建公交站台项目 | F3: 标表2
A5: 清单 第100章 总 则
A6: 子目号 | B6: 子目名称 | C6: 单位 | D6: 数量 | E6: 单价 | F6: 合价
A7: 102 | B7: 工程管理
A8: 102-1 | B8: 竣工文件 | C8: 总额 | D8: 1 | F8: =D8*E8 -> 0
A9: 102-2 | B9: 施工环保费 | C9: 总额 | D9: 1 | F9: =D9*E9 -> 0
A10: 104 | B10: 承包人驻地建设
A11: 104-1 | B11: 承包人驻地建设 | C11: 总额 | D11: 1 | F11: =D11*E11 -> 0
A14: 清单 第100章 合计 人民币 元 | F14: =SUM(F8:F13) -> 0
A15: 清单 第 1 页 | F15: 共 5 页
A18: 工程量清单表
A19: 合同段：盐都区新建公交站台项目 | F19: 标表2
A21: 清单 第200章 路 基
A22: 子目号 | B22: 子目名称 | C22: 单位 | D22: 数量 | E22: 单价 | F22: 合价
A23: 202 | B23: 场地清理
A24: 202-1 | B24: 清理与掘除
A25: -a | B25: 清理现场（清除公交站台范围内的植被，清除前需与主管单位对接，具体工作量以实际发生为准，运距由投标人综合考虑报价内） | C25: m2 | D25: 1243.2 | F25: =D25*E25 -> 0
A26: -c | B26: 挖除树根（拆除后的建筑垃圾，需全部清运出场，投标人综合考虑至报价内，具体工程量以实际发生为准） | C26: 棵 | D26: 56 | F26: =D26*E26 -> 0
A27: 202-4 | B27: 植物移栽
A28: -a | B28: 移栽乔（灌）木 | C28: 棵 | D28: 176 | F28: =D28*E28 -> 0
A29: 203 | B29: 挖方路基
A30: 203-1 | B30: 路基挖方
A31: -a | B31: 挖土方 | C31: m3 | D31: 729.6 | F31: =D31*E31 -> 0
A32: 204 | B32: 填方路基
A33: 204-1 | B33: 路基填筑（包括填前压实）
A34: -a | B34: 素土填筑 | C34: m3 | D34: 1034.08 | F34: =D34*E34 -> 0
A35: -d | B35: 外购土（按压实方计算） | C35: m3 | D35: 200 | F35: =D35*E35 -> 0
A36: 205 | B36: 特殊地区路基处理
A37: 205-1 | B37: 软土路基处理
A38: -d | B38: 土工合成材料
A39: -d-3 | B39: 土工格栅 | C39: m2 | D39: 288 | F39: =D39*E39 -> 0
A41: 清单 第200章 合计 人民币 元 | F41: =SUM(F25:F40) -> 0
A42: 清单 第 2 页 | F42: 共 5 页
A45: 工程量清单表
A46: 合同段：盐都区新建公交站台项目 | F46: 标表2
A48: 清单 第300章 路 面
A49: 子目号 | B49: 子目名称 | C49: 单位 | D49: 数量 | E49: 单价 | F49: 合价
A50: 302 | B50: 垫层
A51: 302-4 | B51: 石灰稳定土垫层
...
